BEGIN:VCALENDAR
VERSION:2.0
PRODID:-//Sabre//Sabre VObject 4.5.8//EN
CALSCALE:GREGORIAN
BEGIN:VEVENT
UID:sabre-vobject-6f85e4a5-acf1-4870-b252-009833f4ad67
DTSTAMP:20260421T201349Z
SUMMARY:BOSS Friendsgiving (HAAF)
DESCRIPTION:Single Soldiers are welcome to join Stewart &amp\; Hunter BOSS 
 for a FREE Thanksgiving Dinner!&nbsp\;\n
X-ALT-DESC:FMTTYPE=text/html:<!DOCTYPE HTML PUBLIC "-//W3C//DTD HTML 3.2//E
 N"><HTML><p>Single Soldiers are welcome to join Stewart &amp\; Hunter BOSS
  for a FREE Thanksgiving Dinner!&nbsp\;</p>\n</HTML>
CREATED;TZID=America/New_York:20241022T154141
URL;VALUE=URI:https://stewarthunter.armymwr.com/calendar/event
DTSTART;TZID=America/New_York:20241113T180000
DTEND;TZID=America/New_York:20241113T210000
SEQUENCE:0
END:VEVENT
END:VCALENDAR
