BEGIN:VCALENDAR
VERSION:2.0
PRODID:-//Sabre//Sabre VObject 4.5.8//EN
CALSCALE:GREGORIAN
BEGIN:VEVENT
UID:sabre-vobject-27074ae2-a636-4b53-b1d0-ae92313967bd
DTSTAMP:20260420T183009Z
SUMMARY:SAC After Dark - FS
DESCRIPTION:
X-ALT-DESC:FMTTYPE=text/html:<!DOCTYPE HTML PUBLIC "-//W3C//DTD HTML 3.2//E
 N"><HTML></HTML>
CREATED;TZID=America/New_York:20241021T123901
URL;VALUE=URI:https://stewarthunter.armymwr.com/calendar/event
DTSTART;TZID=America/New_York:20241008T183000
DTEND;TZID=America/New_York:20241008T233000
SEQUENCE:0
END:VEVENT
BEGIN:VEVENT
UID:sabre-vobject-cc469275-c5bf-461b-a953-f05796c3fb33
DTSTAMP:20260420T183009Z
SUMMARY:SAC After Dark - FS
DESCRIPTION:
X-ALT-DESC:FMTTYPE=text/html:<!DOCTYPE HTML PUBLIC "-//W3C//DTD HTML 3.2//E
 N"><HTML></HTML>
CREATED;TZID=America/New_York:20241021T123901
URL;VALUE=URI:https://stewarthunter.armymwr.com/calendar/event
DTSTART;TZID=America/New_York:20250307T183000
DTEND;TZID=America/New_York:20250307T233000
SEQUENCE:1
END:VEVENT
BEGIN:VEVENT
UID:sabre-vobject-d79ce1a3-a21d-493b-b7f9-bb36a8528c8b
DTSTAMP:20260420T183009Z
SUMMARY:SAC After Dark - FS
DESCRIPTION:
X-ALT-DESC:FMTTYPE=text/html:<!DOCTYPE HTML PUBLIC "-//W3C//DTD HTML 3.2//E
 N"><HTML></HTML>
CREATED;TZID=America/New_York:20241021T123901
URL;VALUE=URI:https://stewarthunter.armymwr.com/calendar/event
DTSTART;TZID=America/New_York:20241018T183000
DTEND;TZID=America/New_York:20241018T233000
SEQUENCE:2
END:VEVENT
END:VCALENDAR
