BEGIN:VCALENDAR
VERSION:2.0
PRODID:-//Sabre//Sabre VObject 4.5.8//EN
CALSCALE:GREGORIAN
BEGIN:VEVENT
UID:sabre-vobject-0848facd-cde9-4520-a1e9-fadbbb48642f
DTSTAMP:20260420T165540Z
SUMMARY:Bowling Bingo at Marne Lanes
DESCRIPTION:Play Bowling Bingo for a chance to win some prizes!\n
X-ALT-DESC:FMTTYPE=text/html:<!DOCTYPE HTML PUBLIC "-//W3C//DTD HTML 3.2//E
 N"><HTML><p>Play Bowling Bingo for a chance to win some prizes!</p>\n</HTM
 L>
CREATED;TZID=America/New_York:20241010T102247
URL;VALUE=URI:https://stewarthunter.armymwr.com/calendar/event
DTSTART;TZID=America/New_York:20241012T130000
DTEND;TZID=America/New_York:20241012T170000
SEQUENCE:0
END:VEVENT
BEGIN:VEVENT
UID:sabre-vobject-a4235d09-cc03-46ce-935e-f4a3e632587a
DTSTAMP:20260420T165540Z
SUMMARY:Bowling Bingo at Marne Lanes
DESCRIPTION:Play Bowling Bingo for a chance to win some prizes!\n
X-ALT-DESC:FMTTYPE=text/html:<!DOCTYPE HTML PUBLIC "-//W3C//DTD HTML 3.2//E
 N"><HTML><p>Play Bowling Bingo for a chance to win some prizes!</p>\n</HTM
 L>
CREATED;TZID=America/New_York:20241010T102247
URL;VALUE=URI:https://stewarthunter.armymwr.com/calendar/event
DTSTART;TZID=America/New_York:20241019T130000
DTEND;TZID=America/New_York:20241019T170000
SEQUENCE:1
END:VEVENT
BEGIN:VEVENT
UID:sabre-vobject-7def72e5-c12f-4d6c-9c2f-0be6920aef8a
DTSTAMP:20260420T165540Z
SUMMARY:Bowling Bingo at Marne Lanes
DESCRIPTION:Play Bowling Bingo for a chance to win some prizes!\n
X-ALT-DESC:FMTTYPE=text/html:<!DOCTYPE HTML PUBLIC "-//W3C//DTD HTML 3.2//E
 N"><HTML><p>Play Bowling Bingo for a chance to win some prizes!</p>\n</HTM
 L>
CREATED;TZID=America/New_York:20241010T102247
URL;VALUE=URI:https://stewarthunter.armymwr.com/calendar/event
DTSTART;TZID=America/New_York:20241026T130000
DTEND;TZID=America/New_York:20241026T170000
SEQUENCE:2
END:VEVENT
END:VCALENDAR
