BEGIN:VCALENDAR
VERSION:2.0
PRODID:-//Sabre//Sabre VObject 4.5.8//EN
CALSCALE:GREGORIAN
BEGIN:VEVENT
UID:sabre-vobject-57c998da-5cb4-4e3c-99db-841c8148e802
DTSTAMP:20260421T152241Z
SUMMARY:Patriot Day 5K Run
DESCRIPTION:Join us at Forsyth Park for a Patriot Day 5k Run to honor First
  Responders &amp\; Military who lost their lives on 9/11 and those that ha
 ve/still serve.&nbsp\;\n
X-ALT-DESC:FMTTYPE=text/html:<!DOCTYPE HTML PUBLIC "-//W3C//DTD HTML 3.2//E
 N"><HTML><p>Join us at Forsyth Park for a Patriot Day 5k Run to honor Firs
 t Responders &amp\; Military who lost their lives on 9/11 and those that h
 ave/still serve.&nbsp\;</p>\n</HTML>
CREATED;TZID=America/New_York:20240816T161638
URL;VALUE=URI:https://stewarthunter.armymwr.com/calendar/event
DTSTART;TZID=America/New_York:20240907T080000
DTEND;TZID=America/New_York:20240907T090000
SEQUENCE:0
END:VEVENT
END:VCALENDAR
