BEGIN:VCALENDAR
VERSION:2.0
PRODID:-//Sabre//Sabre VObject 4.5.8//EN
CALSCALE:GREGORIAN
BEGIN:VEVENT
UID:sabre-vobject-02f17324-4904-4830-8689-4e0148d40279
DTSTAMP:20260423T081618Z
SUMMARY:Retiree Appreciation Day Golf Tournament
DESCRIPTION:
X-ALT-DESC:FMTTYPE=text/html:<!DOCTYPE HTML PUBLIC "-//W3C//DTD HTML 3.2//E
 N"><HTML></HTML>
CREATED;TZID=America/New_York:20230731T153413
URL;VALUE=URI:https://stewarthunter.armymwr.com/calendar/event
DTSTART;TZID=America/New_York:20230819T090000
DTEND;TZID=America/New_York:20230819T100000
SEQUENCE:0
END:VEVENT
END:VCALENDAR
