BEGIN:VCALENDAR
VERSION:2.0
PRODID:-//Sabre//Sabre VObject 4.5.8//EN
CALSCALE:GREGORIAN
BEGIN:VEVENT
UID:sabre-vobject-a81ed1a2-4f7d-4d14-a2e8-c043b21961ca
DTSTAMP:20260425T165538Z
SUMMARY:Managed Hunt
DESCRIPTION:~Registration is open for upcoming hunting lotteries~&nbsp\;\n
X-ALT-DESC:FMTTYPE=text/html:<!DOCTYPE HTML PUBLIC "-//W3C//DTD HTML 3.2//E
 N"><HTML><p style="text-align: center\;"><strong>~Registration is open for
  upcoming hunting lotteries~&nbsp\;</strong></p>\n</HTML>
CREATED;TZID=America/New_York:20220825T091100
URL;VALUE=URI:https://stewarthunter.armymwr.com/calendar/event
DTSTART;TZID=America/New_York:20221217T043000
DTEND;TZID=America/New_York:20221217T053000
SEQUENCE:0
END:VEVENT
END:VCALENDAR
