BEGIN:VCALENDAR
VERSION:2.0
PRODID:-//Sabre//Sabre VObject 4.5.8//EN
CALSCALE:GREGORIAN
BEGIN:VEVENT
UID:sabre-vobject-91ffadda-e510-446c-9da1-085ba9f6fa1f
DTSTAMP:20260423T185411Z
SUMMARY:Little Sluggers T-Ball
DESCRIPTION:
X-ALT-DESC:FMTTYPE=text/html:<!DOCTYPE HTML PUBLIC "-//W3C//DTD HTML 3.2//E
 N"><HTML></HTML>
CREATED;TZID=America/New_York:20210430T130240
URL;VALUE=URI:https://stewarthunter.armymwr.com/calendar/event
DTSTART;TZID=America/New_York:20210406T100000
DTEND;TZID=America/New_York:20210406T110000
SEQUENCE:0
END:VEVENT
BEGIN:VEVENT
UID:sabre-vobject-7c7a597e-8516-4383-a4ed-2870b326463f
DTSTAMP:20260423T185411Z
SUMMARY:Little Sluggers T-Ball
DESCRIPTION:
X-ALT-DESC:FMTTYPE=text/html:<!DOCTYPE HTML PUBLIC "-//W3C//DTD HTML 3.2//E
 N"><HTML></HTML>
CREATED;TZID=America/New_York:20210430T130240
URL;VALUE=URI:https://stewarthunter.armymwr.com/calendar/event
DTSTART;TZID=America/New_York:20210413T100000
DTEND;TZID=America/New_York:20210413T110000
SEQUENCE:1
END:VEVENT
BEGIN:VEVENT
UID:sabre-vobject-0c2083b1-ce1e-42e0-b44d-b741ca39bd59
DTSTAMP:20260423T185411Z
SUMMARY:Little Sluggers T-Ball
DESCRIPTION:
X-ALT-DESC:FMTTYPE=text/html:<!DOCTYPE HTML PUBLIC "-//W3C//DTD HTML 3.2//E
 N"><HTML></HTML>
CREATED;TZID=America/New_York:20210430T130240
URL;VALUE=URI:https://stewarthunter.armymwr.com/calendar/event
DTSTART;TZID=America/New_York:20210420T100000
DTEND;TZID=America/New_York:20210420T110000
SEQUENCE:2
END:VEVENT
BEGIN:VEVENT
UID:sabre-vobject-12ec5850-9dda-4ac4-9c1b-a49472d45d15
DTSTAMP:20260423T185411Z
SUMMARY:Little Sluggers T-Ball
DESCRIPTION:
X-ALT-DESC:FMTTYPE=text/html:<!DOCTYPE HTML PUBLIC "-//W3C//DTD HTML 3.2//E
 N"><HTML></HTML>
CREATED;TZID=America/New_York:20210430T130240
URL;VALUE=URI:https://stewarthunter.armymwr.com/calendar/event
DTSTART;TZID=America/New_York:20210427T100000
DTEND;TZID=America/New_York:20210427T110000
SEQUENCE:3
END:VEVENT
BEGIN:VEVENT
UID:sabre-vobject-5811ad88-42e7-4cb1-9254-3cca549b748f
DTSTAMP:20260423T185411Z
SUMMARY:Little Sluggers T-Ball
DESCRIPTION:
X-ALT-DESC:FMTTYPE=text/html:<!DOCTYPE HTML PUBLIC "-//W3C//DTD HTML 3.2//E
 N"><HTML></HTML>
CREATED;TZID=America/New_York:20210430T130240
URL;VALUE=URI:https://stewarthunter.armymwr.com/calendar/event
DTSTART;TZID=America/New_York:20210504T100000
DTEND;TZID=America/New_York:20210504T110000
SEQUENCE:4
END:VEVENT
BEGIN:VEVENT
UID:sabre-vobject-b1a76b02-b719-4643-be17-ec4944e01cf6
DTSTAMP:20260423T185411Z
SUMMARY:Little Sluggers T-Ball
DESCRIPTION:
X-ALT-DESC:FMTTYPE=text/html:<!DOCTYPE HTML PUBLIC "-//W3C//DTD HTML 3.2//E
 N"><HTML></HTML>
CREATED;TZID=America/New_York:20210430T130240
URL;VALUE=URI:https://stewarthunter.armymwr.com/calendar/event
DTSTART;TZID=America/New_York:20210406T170000
DTEND;TZID=America/New_York:20210406T180000
SEQUENCE:5
END:VEVENT
BEGIN:VEVENT
UID:sabre-vobject-7f6b756f-52bb-453a-827d-ab409ee38467
DTSTAMP:20260423T185411Z
SUMMARY:Little Sluggers T-Ball
DESCRIPTION:
X-ALT-DESC:FMTTYPE=text/html:<!DOCTYPE HTML PUBLIC "-//W3C//DTD HTML 3.2//E
 N"><HTML></HTML>
CREATED;TZID=America/New_York:20210430T130240
URL;VALUE=URI:https://stewarthunter.armymwr.com/calendar/event
DTSTART;TZID=America/New_York:20210413T170000
DTEND;TZID=America/New_York:20210413T180000
SEQUENCE:6
END:VEVENT
BEGIN:VEVENT
UID:sabre-vobject-92dddce1-f1bf-4b43-97d7-6e92b47bc0ae
DTSTAMP:20260423T185411Z
SUMMARY:Little Sluggers T-Ball
DESCRIPTION:
X-ALT-DESC:FMTTYPE=text/html:<!DOCTYPE HTML PUBLIC "-//W3C//DTD HTML 3.2//E
 N"><HTML></HTML>
CREATED;TZID=America/New_York:20210430T130240
URL;VALUE=URI:https://stewarthunter.armymwr.com/calendar/event
DTSTART;TZID=America/New_York:20210420T170000
DTEND;TZID=America/New_York:20210420T180000
SEQUENCE:7
END:VEVENT
BEGIN:VEVENT
UID:sabre-vobject-61c3a6fd-e5f4-436e-94dc-d2dbf5ac16a0
DTSTAMP:20260423T185411Z
SUMMARY:Little Sluggers T-Ball
DESCRIPTION:
X-ALT-DESC:FMTTYPE=text/html:<!DOCTYPE HTML PUBLIC "-//W3C//DTD HTML 3.2//E
 N"><HTML></HTML>
CREATED;TZID=America/New_York:20210430T130240
URL;VALUE=URI:https://stewarthunter.armymwr.com/calendar/event
DTSTART;TZID=America/New_York:20210427T170000
DTEND;TZID=America/New_York:20210427T180000
SEQUENCE:8
END:VEVENT
BEGIN:VEVENT
UID:sabre-vobject-6e25bb56-5d31-4a00-8690-159c53d67c24
DTSTAMP:20260423T185411Z
SUMMARY:Little Sluggers T-Ball
DESCRIPTION:
X-ALT-DESC:FMTTYPE=text/html:<!DOCTYPE HTML PUBLIC "-//W3C//DTD HTML 3.2//E
 N"><HTML></HTML>
CREATED;TZID=America/New_York:20210430T130240
URL;VALUE=URI:https://stewarthunter.armymwr.com/calendar/event
DTSTART;TZID=America/New_York:20210504T170000
DTEND;TZID=America/New_York:20210504T180000
SEQUENCE:9
END:VEVENT
END:VCALENDAR
