BEGIN:VCALENDAR
VERSION:2.0
PRODID:-//Sabre//Sabre VObject 4.5.8//EN
CALSCALE:GREGORIAN
BEGIN:VEVENT
UID:sabre-vobject-1d7b250f-8b4f-4757-8798-3520d765256e
DTSTAMP:20260419T142605Z
SUMMARY:Teen Babysitting Class-HAAF
DESCRIPTION:
X-ALT-DESC:FMTTYPE=text/html:<!DOCTYPE HTML PUBLIC "-//W3C//DTD HTML 3.2//E
 N"><HTML></HTML>
CREATED;TZID=America/New_York:20220318T100255
URL;VALUE=URI:https://stewarthunter.armymwr.com/calendar/event
DTSTART;TZID=America/New_York:20210116T080000
DTEND;TZID=America/New_York:20210116T170000
SEQUENCE:0
END:VEVENT
BEGIN:VEVENT
UID:sabre-vobject-fc603810-3d1f-4b98-9293-af726fd4c775
DTSTAMP:20260419T142605Z
SUMMARY:Teen Babysitting Class-HAAF
DESCRIPTION:
X-ALT-DESC:FMTTYPE=text/html:<!DOCTYPE HTML PUBLIC "-//W3C//DTD HTML 3.2//E
 N"><HTML></HTML>
CREATED;TZID=America/New_York:20220318T100255
URL;VALUE=URI:https://stewarthunter.armymwr.com/calendar/event
DTSTART;TZID=America/New_York:20210417T080000
DTEND;TZID=America/New_York:20210417T170000
SEQUENCE:1
END:VEVENT
BEGIN:VEVENT
UID:sabre-vobject-93d7d395-1ffa-48d7-8ac3-10a2e269ba9f
DTSTAMP:20260419T142605Z
SUMMARY:Teen Babysitting Class-HAAF
DESCRIPTION:
X-ALT-DESC:FMTTYPE=text/html:<!DOCTYPE HTML PUBLIC "-//W3C//DTD HTML 3.2//E
 N"><HTML></HTML>
CREATED;TZID=America/New_York:20220318T100255
URL;VALUE=URI:https://stewarthunter.armymwr.com/calendar/event
DTSTART;TZID=America/New_York:20210814T080000
DTEND;TZID=America/New_York:20210814T170000
SEQUENCE:2
END:VEVENT
BEGIN:VEVENT
UID:sabre-vobject-0cc3ae04-28f6-49bb-9aba-f3c281008aca
DTSTAMP:20260419T142605Z
SUMMARY:Teen Babysitting Class-HAAF
DESCRIPTION:
X-ALT-DESC:FMTTYPE=text/html:<!DOCTYPE HTML PUBLIC "-//W3C//DTD HTML 3.2//E
 N"><HTML></HTML>
CREATED;TZID=America/New_York:20220318T100255
URL;VALUE=URI:https://stewarthunter.armymwr.com/calendar/event
DTSTART;TZID=America/New_York:20211211T080000
DTEND;TZID=America/New_York:20211211T170000
SEQUENCE:3
END:VEVENT
END:VCALENDAR
