BEGIN:VCALENDAR
VERSION:2.0
PRODID:-//Sabre//Sabre VObject 4.5.8//EN
CALSCALE:GREGORIAN
BEGIN:VEVENT
UID:sabre-vobject-6405453a-1c32-4c1e-b439-f1f95ed23ece
DTSTAMP:20260419T165706Z
SUMMARY:Teen Babysitting Class - FS
DESCRIPTION:
X-ALT-DESC:FMTTYPE=text/html:<!DOCTYPE HTML PUBLIC "-//W3C//DTD HTML 3.2//E
 N"><HTML></HTML>
CREATED;TZID=America/New_York:20220318T095433
URL;VALUE=URI:https://stewarthunter.armymwr.com/calendar/event
DTSTART;TZID=America/New_York:20210109T080000
DTEND;TZID=America/New_York:20210109T170000
SEQUENCE:0
END:VEVENT
BEGIN:VEVENT
UID:sabre-vobject-0f2f1ab2-951e-478e-887e-fdead9452890
DTSTAMP:20260419T165706Z
SUMMARY:Teen Babysitting Class - FS
DESCRIPTION:
X-ALT-DESC:FMTTYPE=text/html:<!DOCTYPE HTML PUBLIC "-//W3C//DTD HTML 3.2//E
 N"><HTML></HTML>
CREATED;TZID=America/New_York:20220318T095433
URL;VALUE=URI:https://stewarthunter.armymwr.com/calendar/event
DTSTART;TZID=America/New_York:20210410T080000
DTEND;TZID=America/New_York:20210410T090000
SEQUENCE:1
END:VEVENT
BEGIN:VEVENT
UID:sabre-vobject-fe11ba24-2e1d-4d90-a48d-e0e6bcbb6fb7
DTSTAMP:20260419T165706Z
SUMMARY:Teen Babysitting Class - FS
DESCRIPTION:
X-ALT-DESC:FMTTYPE=text/html:<!DOCTYPE HTML PUBLIC "-//W3C//DTD HTML 3.2//E
 N"><HTML></HTML>
CREATED;TZID=America/New_York:20220318T095433
URL;VALUE=URI:https://stewarthunter.armymwr.com/calendar/event
DTSTART;TZID=America/New_York:20210807T080000
DTEND;TZID=America/New_York:20210807T090000
SEQUENCE:2
END:VEVENT
BEGIN:VEVENT
UID:sabre-vobject-1af60318-8a20-4eb3-a5a1-a28b198ffeb3
DTSTAMP:20260419T165706Z
SUMMARY:Teen Babysitting Class - FS
DESCRIPTION:
X-ALT-DESC:FMTTYPE=text/html:<!DOCTYPE HTML PUBLIC "-//W3C//DTD HTML 3.2//E
 N"><HTML></HTML>
CREATED;TZID=America/New_York:20220318T095433
URL;VALUE=URI:https://stewarthunter.armymwr.com/calendar/event
DTSTART;TZID=America/New_York:20211204T080000
DTEND;TZID=America/New_York:20211204T170000
SEQUENCE:3
END:VEVENT
END:VCALENDAR
