BEGIN:VCALENDAR
VERSION:2.0
PRODID:-//Sabre//Sabre VObject 4.5.8//EN
CALSCALE:GREGORIAN
BEGIN:VEVENT
UID:sabre-vobject-f588a44f-ea10-4246-94a2-b189166a4465
DTSTAMP:20260420T194935Z
SUMMARY:2nd Sunday Brunch
DESCRIPTION:
X-ALT-DESC:FMTTYPE=text/html:<!DOCTYPE HTML PUBLIC "-//W3C//DTD HTML 3.2//E
 N"><HTML></HTML>
CREATED;TZID=America/New_York:20211019T055813
URL;VALUE=URI:https://stewarthunter.armymwr.com/calendar/event
DTSTART;TZID=America/New_York:20210411T100000
DTEND;TZID=America/New_York:20210411T140000
SEQUENCE:0
END:VEVENT
BEGIN:VEVENT
UID:sabre-vobject-4b087ec9-6a5a-4d6c-8987-b6ff0e6049af
DTSTAMP:20260420T194935Z
SUMMARY:2nd Sunday Brunch
DESCRIPTION:
X-ALT-DESC:FMTTYPE=text/html:<!DOCTYPE HTML PUBLIC "-//W3C//DTD HTML 3.2//E
 N"><HTML></HTML>
CREATED;TZID=America/New_York:20211019T055813
URL;VALUE=URI:https://stewarthunter.armymwr.com/calendar/event
DTSTART;TZID=America/New_York:20210711T100000
DTEND;TZID=America/New_York:20210711T140000
SEQUENCE:1
END:VEVENT
BEGIN:VEVENT
UID:sabre-vobject-92ca12a6-8f23-46a6-a727-af5cd5afade4
DTSTAMP:20260420T194935Z
SUMMARY:2nd Sunday Brunch
DESCRIPTION:
X-ALT-DESC:FMTTYPE=text/html:<!DOCTYPE HTML PUBLIC "-//W3C//DTD HTML 3.2//E
 N"><HTML></HTML>
CREATED;TZID=America/New_York:20211019T055813
URL;VALUE=URI:https://stewarthunter.armymwr.com/calendar/event
DTSTART;TZID=America/New_York:20210808T100000
DTEND;TZID=America/New_York:20210808T140000
SEQUENCE:2
END:VEVENT
BEGIN:VEVENT
UID:sabre-vobject-5e7aedeb-0c6f-4322-bb0c-2460124b6d0b
DTSTAMP:20260420T194935Z
SUMMARY:2nd Sunday Brunch
DESCRIPTION:
X-ALT-DESC:FMTTYPE=text/html:<!DOCTYPE HTML PUBLIC "-//W3C//DTD HTML 3.2//E
 N"><HTML></HTML>
CREATED;TZID=America/New_York:20211019T055813
URL;VALUE=URI:https://stewarthunter.armymwr.com/calendar/event
DTSTART;TZID=America/New_York:20210912T100000
DTEND;TZID=America/New_York:20210912T140000
SEQUENCE:3
END:VEVENT
BEGIN:VEVENT
UID:sabre-vobject-723990ff-8a1c-4e52-a67e-4a71f1dc0e08
DTSTAMP:20260420T194935Z
SUMMARY:2nd Sunday Brunch
DESCRIPTION:
X-ALT-DESC:FMTTYPE=text/html:<!DOCTYPE HTML PUBLIC "-//W3C//DTD HTML 3.2//E
 N"><HTML></HTML>
CREATED;TZID=America/New_York:20211019T055813
URL;VALUE=URI:https://stewarthunter.armymwr.com/calendar/event
DTSTART;TZID=America/New_York:20211010T100000
DTEND;TZID=America/New_York:20211010T140000
SEQUENCE:4
END:VEVENT
END:VCALENDAR
