BEGIN:VCALENDAR
VERSION:2.0
PRODID:-//Sabre//Sabre VObject 4.5.8//EN
CALSCALE:GREGORIAN
BEGIN:VEVENT
UID:sabre-vobject-3e75c7b2-e690-4936-9018-1fddda3dbad2
DTSTAMP:20260420T052350Z
SUMMARY:Long Range Shoot
DESCRIPTION:
X-ALT-DESC:FMTTYPE=text/html:<!DOCTYPE HTML PUBLIC "-//W3C//DTD HTML 3.2//E
 N"><HTML></HTML>
CREATED;TZID=America/New_York:20201021T183905
URL;VALUE=URI:https://stewarthunter.armymwr.com/calendar/event
DTSTART;TZID=America/New_York:20201212T090000
DTEND;TZID=America/New_York:20201212T140000
SEQUENCE:0
END:VEVENT
END:VCALENDAR
