BEGIN:VCALENDAR
VERSION:2.0
PRODID:-//Sabre//Sabre VObject 4.5.8//EN
CALSCALE:GREGORIAN
BEGIN:VEVENT
UID:sabre-vobject-e1963346-5045-4572-b106-b334f5432624
DTSTAMP:20260421T052612Z
SUMMARY:Fall Festival
DESCRIPTION:
X-ALT-DESC:FMTTYPE=text/html:<!DOCTYPE HTML PUBLIC "-//W3C//DTD HTML 3.2//E
 N"><HTML></HTML>
CREATED;TZID=America/New_York:20201020T221539
URL;VALUE=URI:https://stewarthunter.armymwr.com/calendar/event
DTSTART;TZID=America/New_York:20201024T150000
DTEND;TZID=America/New_York:20201024T190000
SEQUENCE:0
END:VEVENT
END:VCALENDAR
