BEGIN:VCALENDAR
VERSION:2.0
PRODID:-//Sabre//Sabre VObject 4.5.8//EN
CALSCALE:GREGORIAN
BEGIN:VEVENT
UID:sabre-vobject-127a06ba-dfdb-4c82-9c95-5eda679b046f
DTSTAMP:20260421T052609Z
SUMMARY:Indiana Hays & the Temple of Books Scavenger Hunt
DESCRIPTION:
X-ALT-DESC:FMTTYPE=text/html:<!DOCTYPE HTML PUBLIC "-//W3C//DTD HTML 3.2//E
 N"><HTML></HTML>
CREATED;TZID=America/New_York:20200528T140449
URL;VALUE=URI:https://stewarthunter.armymwr.com/calendar/event
DTSTART;TZID=America/New_York:20200603T133000
DTEND;TZID=America/New_York:20200603T143000
SEQUENCE:0
END:VEVENT
END:VCALENDAR
