BEGIN:VCALENDAR
VERSION:2.0
PRODID:-//Sabre//Sabre VObject 4.5.8//EN
CALSCALE:GREGORIAN
BEGIN:VEVENT
UID:sabre-vobject-f405cebb-4a0e-44ed-b7a4-394089ccd611
DTSTAMP:20260425T151326Z
SUMMARY:Mumzee Scavenger Hunt
DESCRIPTION:Oh where\, oh where is Mumzee?\n
X-ALT-DESC:FMTTYPE=text/html:<!DOCTYPE HTML PUBLIC "-//W3C//DTD HTML 3.2//E
 N"><HTML><p>Oh where\, oh where is Mumzee?</p>\n</HTML>
CREATED;TZID=America/New_York:20200501T100715
URL;VALUE=URI:https://stewarthunter.armymwr.com/calendar/event
DTSTART;TZID=America/New_York:20200501T000000
DTEND;TZID=America/New_York:20200508T235959
SEQUENCE:0
END:VEVENT
END:VCALENDAR
