BEGIN:VCALENDAR
VERSION:2.0
PRODID:-//Sabre//Sabre VObject 4.5.8//EN
CALSCALE:GREGORIAN
BEGIN:VEVENT
UID:sabre-vobject-3444642c-cadd-4278-b905-c0a87179acaf
DTSTAMP:20260425T184618Z
SUMMARY:MixxedFit (FS)- CANCELLED
DESCRIPTION:
X-ALT-DESC:FMTTYPE=text/html:<!DOCTYPE HTML PUBLIC "-//W3C//DTD HTML 3.2//E
 N"><HTML></HTML>
CREATED;TZID=America/New_York:20200330T193407
URL;VALUE=URI:https://stewarthunter.armymwr.com/calendar/event
DTSTART;TZID=America/New_York:20200428T180000
DTEND;TZID=America/New_York:20200428T190000
SEQUENCE:0
END:VEVENT
END:VCALENDAR
