BEGIN:VCALENDAR
VERSION:2.0
PRODID:-//Sabre//Sabre VObject 4.5.8//EN
CALSCALE:GREGORIAN
BEGIN:VEVENT
UID:sabre-vobject-3e181658-823b-4c0b-8691-7becc2754b86
DTSTAMP:20260425T192055Z
SUMMARY:Zumba Toning & Steps (FS)- CANCELLED
DESCRIPTION:
X-ALT-DESC:FMTTYPE=text/html:<!DOCTYPE HTML PUBLIC "-//W3C//DTD HTML 3.2//E
 N"><HTML></HTML>
CREATED;TZID=America/New_York:20200330T192704
URL;VALUE=URI:https://stewarthunter.armymwr.com/calendar/event
DTSTART;TZID=America/New_York:20200421T090000
DTEND;TZID=America/New_York:20200421T100000
SEQUENCE:0
END:VEVENT
END:VCALENDAR
