BEGIN:VCALENDAR
VERSION:2.0
PRODID:-//Sabre//Sabre VObject 4.5.8//EN
CALSCALE:GREGORIAN
BEGIN:VEVENT
UID:sabre-vobject-c945d09c-da4b-4849-921f-3fcdb2b35427
DTSTAMP:20260424T202617Z
SUMMARY:Marne Bass Trail Tournament 2020 
DESCRIPTION:
X-ALT-DESC:FMTTYPE=text/html:<!DOCTYPE HTML PUBLIC "-//W3C//DTD HTML 3.2//E
 N"><HTML></HTML>
CREATED;TZID=America/New_York:20200714T063907
URL;VALUE=URI:https://stewarthunter.armymwr.com/calendar/event
DTSTART;TZID=America/New_York:20200222T060000
DTEND;TZID=America/New_York:20200222T120000
SEQUENCE:0
END:VEVENT
BEGIN:VEVENT
UID:sabre-vobject-471f98e2-402f-44df-a4be-cae8478cc9e3
DTSTAMP:20260424T202617Z
SUMMARY:Marne Bass Trail Tournament 2020 
DESCRIPTION:
X-ALT-DESC:FMTTYPE=text/html:<!DOCTYPE HTML PUBLIC "-//W3C//DTD HTML 3.2//E
 N"><HTML></HTML>
CREATED;TZID=America/New_York:20200714T063907
URL;VALUE=URI:https://stewarthunter.armymwr.com/calendar/event
DTSTART;TZID=America/New_York:20200321T060000
DTEND;TZID=America/New_York:20200321T120000
SEQUENCE:1
END:VEVENT
BEGIN:VEVENT
UID:sabre-vobject-390c9d28-f198-44c3-baf7-d52fcc30ab34
DTSTAMP:20260424T202617Z
SUMMARY:Marne Bass Trail Tournament 2020 
DESCRIPTION:
X-ALT-DESC:FMTTYPE=text/html:<!DOCTYPE HTML PUBLIC "-//W3C//DTD HTML 3.2//E
 N"><HTML></HTML>
CREATED;TZID=America/New_York:20200714T063907
URL;VALUE=URI:https://stewarthunter.armymwr.com/calendar/event
DTSTART;TZID=America/New_York:20200418T060000
DTEND;TZID=America/New_York:20200418T120000
SEQUENCE:2
END:VEVENT
BEGIN:VEVENT
UID:sabre-vobject-14e078f0-83a9-4813-ac97-fbb6dba36065
DTSTAMP:20260424T202617Z
SUMMARY:Marne Bass Trail Tournament 2020 
DESCRIPTION:
X-ALT-DESC:FMTTYPE=text/html:<!DOCTYPE HTML PUBLIC "-//W3C//DTD HTML 3.2//E
 N"><HTML></HTML>
CREATED;TZID=America/New_York:20200714T063907
URL;VALUE=URI:https://stewarthunter.armymwr.com/calendar/event
DTSTART;TZID=America/New_York:20200516T060000
DTEND;TZID=America/New_York:20200516T120000
SEQUENCE:3
END:VEVENT
BEGIN:VEVENT
UID:sabre-vobject-3453b633-6d08-4411-90cf-281f3c465c44
DTSTAMP:20260424T202617Z
SUMMARY:Marne Bass Trail Tournament 2020 
DESCRIPTION:
X-ALT-DESC:FMTTYPE=text/html:<!DOCTYPE HTML PUBLIC "-//W3C//DTD HTML 3.2//E
 N"><HTML></HTML>
CREATED;TZID=America/New_York:20200714T063907
URL;VALUE=URI:https://stewarthunter.armymwr.com/calendar/event
DTSTART;TZID=America/New_York:20200919T060000
DTEND;TZID=America/New_York:20200919T120000
SEQUENCE:4
END:VEVENT
END:VCALENDAR
