BEGIN:VCALENDAR
VERSION:2.0
PRODID:-//Sabre//Sabre VObject 4.5.8//EN
CALSCALE:GREGORIAN
BEGIN:VEVENT
UID:sabre-vobject-7c7b4b69-9021-4b31-a25a-70c610b029b6
DTSTAMP:20260424T025157Z
SUMMARY:Teen Babysitting Class (HAAF) 
DESCRIPTION:
X-ALT-DESC:FMTTYPE=text/html:<!DOCTYPE HTML PUBLIC "-//W3C//DTD HTML 3.2//E
 N"><HTML></HTML>
CREATED;TZID=America/New_York:20200529T091240
URL;VALUE=URI:https://stewarthunter.armymwr.com/calendar/event
DTSTART;TZID=America/New_York:20200611T083000
DTEND;TZID=America/New_York:20200611T170000
SEQUENCE:0
END:VEVENT
END:VCALENDAR
