BEGIN:VCALENDAR
VERSION:2.0
PRODID:-//Sabre//Sabre VObject 4.5.8//EN
CALSCALE:GREGORIAN
BEGIN:VEVENT
UID:sabre-vobject-d5e2f2ab-68ec-4164-aa41-243791698417
DTSTAMP:20260424T183158Z
SUMMARY:Crafternoon at the Library
DESCRIPTION:
X-ALT-DESC:FMTTYPE=text/html:<!DOCTYPE HTML PUBLIC "-//W3C//DTD HTML 3.2//E
 N"><HTML></HTML>
CREATED;TZID=America/New_York:20200528T144531
URL;VALUE=URI:https://stewarthunter.armymwr.com/calendar/event
DTSTART;TZID=America/New_York:20200220T153000
DTEND;TZID=America/New_York:20200220T190000
SEQUENCE:0
END:VEVENT
END:VCALENDAR
