BEGIN:VCALENDAR
VERSION:2.0
PRODID:-//Sabre//Sabre VObject 4.5.8//EN
CALSCALE:GREGORIAN
BEGIN:VEVENT
UID:sabre-vobject-f927e2f5-ebd6-492c-8b85-411581bfb69b
DTSTAMP:20260424T141108Z
SUMMARY:High-Intensity Interval Training Classes (FS)
DESCRIPTION:
X-ALT-DESC:FMTTYPE=text/html:<!DOCTYPE HTML PUBLIC "-//W3C//DTD HTML 3.2//E
 N"><HTML></HTML>
CREATED;TZID=America/New_York:20200528T144334
URL;VALUE=URI:https://stewarthunter.armymwr.com/calendar/event
DTSTART;TZID=America/New_York:20190102T114500
DTEND;TZID=America/New_York:20190102T124500
SEQUENCE:0
END:VEVENT
BEGIN:VEVENT
UID:sabre-vobject-936c758b-3a70-4f30-a7c5-59abdb95ad7c
DTSTAMP:20260424T141108Z
SUMMARY:High-Intensity Interval Training Classes (FS)
DESCRIPTION:
X-ALT-DESC:FMTTYPE=text/html:<!DOCTYPE HTML PUBLIC "-//W3C//DTD HTML 3.2//E
 N"><HTML></HTML>
CREATED;TZID=America/New_York:20200528T144334
URL;VALUE=URI:https://stewarthunter.armymwr.com/calendar/event
DTSTART;TZID=America/New_York:20190104T114500
DTEND;TZID=America/New_York:20190104T124500
SEQUENCE:1
END:VEVENT
BEGIN:VEVENT
UID:sabre-vobject-0ae5f612-4a79-4c77-8d96-0e207a959869
DTSTAMP:20260424T141108Z
SUMMARY:High-Intensity Interval Training Classes (FS)
DESCRIPTION:
X-ALT-DESC:FMTTYPE=text/html:<!DOCTYPE HTML PUBLIC "-//W3C//DTD HTML 3.2//E
 N"><HTML></HTML>
CREATED;TZID=America/New_York:20200528T144334
URL;VALUE=URI:https://stewarthunter.armymwr.com/calendar/event
DTSTART;TZID=America/New_York:20190107T114500
DTEND;TZID=America/New_York:20190107T124500
SEQUENCE:2
END:VEVENT
END:VCALENDAR
