BEGIN:VCALENDAR
VERSION:2.0
PRODID:-//Sabre//Sabre VObject 4.5.8//EN
CALSCALE:GREGORIAN
BEGIN:VEVENT
UID:sabre-vobject-fafc3cb0-612c-48dc-80de-21d7488b4fd8
DTSTAMP:20260424T141108Z
SUMMARY:Story Time
DESCRIPTION:
X-ALT-DESC:FMTTYPE=text/html:<!DOCTYPE HTML PUBLIC "-//W3C//DTD HTML 3.2//E
 N"><HTML></HTML>
CREATED;TZID=America/New_York:20200528T141907
URL;VALUE=URI:https://stewarthunter.armymwr.com/calendar/event
DTSTART;TZID=America/New_York:20170823T100000
DTEND;TZID=America/New_York:20170823T110000
SEQUENCE:0
END:VEVENT
END:VCALENDAR
